BEGIN:VCALENDAR
VERSION:2.0
PRODID:-//Plone.org//NONSGML plone.app.event//EN
X-WR-TIMEZONE:US/Eastern
BEGIN:VEVENT
SUMMARY:Candy Olympics
DTSTART;TZID=US/Eastern:20220214T180000
DTEND;TZID=US/Eastern:20220214T200000
DTSTAMP:20260423T062721Z
UID:37f95be4b30244ddbed6902a2a293e4e@saas_stack_varnish:6080
CONTACT:616-681-9678\, https://www.facebook.com/events/292794229562335/
CREATED:20220124T175043Z
DESCRIPTION:Compete in teams of 6 to play fun candy-based games like candy
  bar relay\, candy cut\, and more! Of course\, you will get to keep any ca
 ndy that you use/win for the games! This is a family event meaning it is f
 or all ages\, however\, we do ask that parents and children under the age 
 of 5 team up to be one space in the team! To sign up call 616-681-9678 or 
 stop into the library!
LAST-MODIFIED:20220124T175052Z
LOCATION:Dorr Township Library
URL:https://www.dorrlibrary.michlibrary.org/about/lib-cal/candy-olympics
END:VEVENT
BEGIN:VTIMEZONE
TZID:US/Eastern
X-LIC-LOCATION:US/Eastern
BEGIN:STANDARD
DTSTART:20211107T010000
TZNAME:EST
TZOFFSETFROM:-0400
TZOFFSETTO:-0500
END:STANDARD
END:VTIMEZONE
END:VCALENDAR
