BEGIN:VCALENDAR
VERSION:2.0
PRODID:-//Plone.org//NONSGML plone.app.event//EN
X-WR-TIMEZONE:US/Eastern
BEGIN:VEVENT
SUMMARY:Cereal Party
DTSTART;TZID=US/Eastern:20240307T180000
DTEND;TZID=US/Eastern:20240307T200000
DTSTAMP:20260424T145550Z
UID:3f55286933fc4482a0071645e5eae4e2@saas_stack_varnish:6080
CONTACT:616-681-9678
CREATED:20240215T231104Z
DESCRIPTION:Please visit our FB events page or give us a call for more inf
 ormation.
LAST-MODIFIED:20240215T231110Z
LOCATION:Dorr Township Library
URL:https://www.dorrlibrary.michlibrary.org/about/lib-cal/cereal-party
END:VEVENT
BEGIN:VTIMEZONE
TZID:US/Eastern
X-LIC-LOCATION:US/Eastern
BEGIN:STANDARD
DTSTART:20231105T010000
TZNAME:EST
TZOFFSETFROM:-0400
TZOFFSETTO:-0500
END:STANDARD
END:VTIMEZONE
END:VCALENDAR
