BEGIN:VCALENDAR
VERSION:2.0
PRODID:-//Plone.org//NONSGML plone.app.event//EN
X-WR-TIMEZONE:US/Eastern
BEGIN:VEVENT
SUMMARY:Family Game Night
DTSTART;TZID=US/Eastern:20210610T160000
DTEND;TZID=US/Eastern:20210610T200000
DTSTAMP:20260421T223121Z
UID:1f13dfcce229465e9651b1f75cc84ae8@saas_stack_varnish:6080
CONTACT:616-681-9678\, https://www.facebook.com/events/513156959819416/?re
 f=newsfeed
CREATED:20210512T155504Z
DESCRIPTION:Bring the family for game night (over 30 games to choose from!
 )\, snacks and drinks. Sessions will run on the hour from 4-5pm\, 5-6pm\, 
 6-7pm & 7-8pm with 6 family slots per hour. Masks will be required at all 
 times except when eating at a game table. Those who wish to attend must si
 gn up ahead of time by coming into the library or calling us at (616) 681-
 9678.
LAST-MODIFIED:20210512T155513Z
LOCATION:Dorr Township Library
URL:https://www.dorrlibrary.michlibrary.org/about/lib-cal/family-game-nigh
 t
END:VEVENT
BEGIN:VTIMEZONE
TZID:US/Eastern
X-LIC-LOCATION:US/Eastern
BEGIN:DAYLIGHT
DTSTART:20210314T030000
TZNAME:EDT
TZOFFSETFROM:-0500
TZOFFSETTO:-0400
END:DAYLIGHT
END:VTIMEZONE
END:VCALENDAR
