BEGIN:VCALENDAR
VERSION:2.0
PRODID:-//Plone.org//NONSGML plone.app.event//EN
X-WR-TIMEZONE:US/Eastern
BEGIN:VEVENT
SUMMARY:Harry Potters Birthday/ End of Summer Reading Party
DTSTART;TZID=US/Eastern:20210731T100000
DTEND;TZID=US/Eastern:20210731T140000
DTSTAMP:20260420T223326Z
UID:3f0bab9987154d378c35a7f0b87f8e3f@saas_stack_varnish:6080
CONTACT:616-681-9678\, https://www.facebook.com/events/163230545833353/?ac
 ontext=%7B%22action_history%22%3A[%7B%22surface%22%3A%22page%22%2C%22mecha
 nism%22%3A%22page_admin_bar%22%2C%22extra_data%22%3A%22%7B%5C%22page_id%5C
 %22%3A107290519316419%7D%22%7D%2C%7B%22surface%22%3A%22events_admin_tool%2
 2%2C%22mechanism%22%3A%22recommended_actions%22%2C%22extra_data%22%3A%22[]
 %22%7D]%2C%22has_source%22%3Atrue%7D
CREATED:20210714T185626Z
DESCRIPTION:Join us all day for Harry Potter Fun! From taking a sorting ha
 t quiz and getting a sticker with your house on it\, to making your own wa
 nds and dragons! We will have several stations set up throughout the libra
 ry and maybe some outside depending on the weather! This program is not li
 mited but we do ask that you call or come in to sign up if you are plannin
 g on attending just so we have an idea of how many supplies will be needed
 .
LAST-MODIFIED:20210714T185739Z
LOCATION:Dorr Township Library
URL:https://www.dorrlibrary.michlibrary.org/about/lib-cal/harry-potters-bi
 rthday-end-of-summer-reading-party
END:VEVENT
BEGIN:VTIMEZONE
TZID:US/Eastern
X-LIC-LOCATION:US/Eastern
BEGIN:DAYLIGHT
DTSTART:20210314T030000
TZNAME:EDT
TZOFFSETFROM:-0500
TZOFFSETTO:-0400
END:DAYLIGHT
END:VTIMEZONE
END:VCALENDAR
