BEGIN:VCALENDAR
VERSION:2.0
PRODID:-//Plone.org//NONSGML plone.app.event//EN
X-WR-TIMEZONE:US/Eastern
BEGIN:VEVENT
SUMMARY:Mini Zen Garden
DTSTART;TZID=US/Eastern:20211111T180000
DTEND;TZID=US/Eastern:20211111T200000
DTSTAMP:20260422T133657Z
UID:c6c81acc9b8c449a9c0b4c876c6376a2@saas_stack_varnish:6080
CONTACT:616-681-9678\, https://www.facebook.com/events/350588576751908/
CREATED:20211025T174351Z
DESCRIPTION:Create mini zen gardens with trays\, sand\, hair clips\, and m
 ore! Those who wish to attend must sign up ahead of time by coming into th
 e library or calling us at (616) 681-9678. There is no age limit for this 
 class\, however\, we do ask that younger children be accompanied by an adu
 lt.
LAST-MODIFIED:20211025T174359Z
LOCATION:Dorr Township Library
URL:https://www.dorrlibrary.michlibrary.org/about/lib-cal/mini-zen-garden-
 1
END:VEVENT
BEGIN:VTIMEZONE
TZID:US/Eastern
X-LIC-LOCATION:US/Eastern
BEGIN:STANDARD
DTSTART:20211107T010000
TZNAME:EST
TZOFFSETFROM:-0400
TZOFFSETTO:-0500
END:STANDARD
END:VTIMEZONE
END:VCALENDAR
