BEGIN:VCALENDAR
VERSION:2.0
PRODID:-//Plone.org//NONSGML plone.app.event//EN
X-WR-TIMEZONE:US/Eastern
BEGIN:VEVENT
SUMMARY:Mini Zen Garden
DTSTART;TZID=US/Eastern:20210830T180000
DTEND;TZID=US/Eastern:20210830T200000
DTSTAMP:20260423T000846Z
UID:aa3e734a86994963b84b5dbc547a1136@saas_stack_varnish:6080
CONTACT:616-681-9678\, https://www.facebook.com/events/340580757657464/?ac
 ontext=%7B%22action_history%22%3A[%7B%22surface%22%3A%22page%22%2C%22mecha
 nism%22%3A%22page_admin_bar%22%2C%22extra_data%22%3A%22%7B%5C%22page_id%5C
 %22%3A107290519316419%7D%22%7D%2C%7B%22surface%22%3A%22events_admin_tool%2
 2%2C%22mechanism%22%3A%22recommended_actions%22%2C%22extra_data%22%3A%22[]
 %22%7D]%2C%22has_source%22%3Atrue%7D
CREATED:20210714T184010Z
DESCRIPTION:12 people maximum.\nCreate mini zen gardens with terra cotta t
 rays\, sand\, hair clips and more! Those who wish to attend must sign up a
 head of time by coming into the library or calling us at (616) 681-9678. T
 here is no age limit for this class\, however\, we do ask that younger chi
 ldren be accompanied by an adult.
LAST-MODIFIED:20210714T184015Z
LOCATION:Dorr Township Library
URL:https://www.dorrlibrary.michlibrary.org/about/lib-cal/mini-zen-garden
END:VEVENT
BEGIN:VTIMEZONE
TZID:US/Eastern
X-LIC-LOCATION:US/Eastern
BEGIN:DAYLIGHT
DTSTART:20210314T030000
TZNAME:EDT
TZOFFSETFROM:-0500
TZOFFSETTO:-0400
END:DAYLIGHT
END:VTIMEZONE
END:VCALENDAR
