BEGIN:VCALENDAR
VERSION:2.0
PRODID:-//Plone.org//NONSGML plone.app.event//EN
X-WR-TIMEZONE:US/Eastern
BEGIN:VEVENT
SUMMARY:Pipe Cleaner Animals
DTSTART;TZID=US/Eastern:20210726T160000
DTEND;TZID=US/Eastern:20210726T200000
DTSTAMP:20260421T103810Z
UID:842dc5ad07c84b51a98ccca0d9709ae7@saas_stack_varnish:6080
CONTACT:616-681-9678\, https://www.facebook.com/events/238035957749561/?ac
 ontext=%7B%22action_history%22%3A[%7B%22surface%22%3A%22page%22%2C%22mecha
 nism%22%3A%22page_admin_bar%22%2C%22extra_data%22%3A%22%7B%5C%22page_id%5C
 %22%3A107290519316419%7D%22%7D%2C%7B%22surface%22%3A%22events_admin_tool%2
 2%2C%22mechanism%22%3A%22recommended_actions%22%2C%22extra_data%22%3A%22[]
 %22%7D]%2C%22has_source%22%3Atrue%7D
CREATED:20210714T185152Z
DESCRIPTION:One class will be 4:00-5:30pm and the other will be 6:00-7:30p
 m with a maximum of 12 people per class. Social Distancing will be maintai
 ned. Those who wish to attend must sign up ahead of time by coming into th
 e library or calling us at (616) 681-9678. There is no age limit for this 
 class\, however\, we do ask that younger children be accompanied by an adu
 lt.
LAST-MODIFIED:20210714T185156Z
LOCATION:Dorr Township Library
URL:https://www.dorrlibrary.michlibrary.org/about/lib-cal/pipe-cleaner-ani
 mals
END:VEVENT
BEGIN:VTIMEZONE
TZID:US/Eastern
X-LIC-LOCATION:US/Eastern
BEGIN:DAYLIGHT
DTSTART:20210314T030000
TZNAME:EDT
TZOFFSETFROM:-0500
TZOFFSETTO:-0400
END:DAYLIGHT
END:VTIMEZONE
END:VCALENDAR
