BEGIN:VCALENDAR
VERSION:2.0
PRODID:-//Plone.org//NONSGML plone.app.event//EN
X-WR-TIMEZONE:US/Eastern
BEGIN:VEVENT
SUMMARY:Skeleton and Zombie Hand Lights
DTSTART;TZID=US/Eastern:20211014T180000
DTEND;TZID=US/Eastern:20211014T200000
DTSTAMP:20260424T142701Z
UID:8883199e209b4030b85682c82f210d6a@saas_stack_varnish:6080
CONTACT:616-681-9678\, https://www.facebook.com/events/461184848770990/
CREATED:20210915T184355Z
DESCRIPTION:Super fun spooky craft! Make a skeleton hand or a zombie hand 
 to decorate your home with or maybe even your yard! Stop into the library 
 or call 616-681-9678 to sign up. There is no age limit for this class howe
 ver\, we do ask that younger children be accompanied by an adult to assist
  them as needed.
LAST-MODIFIED:20210915T184502Z
LOCATION:Dorr Township Library
URL:https://www.dorrlibrary.michlibrary.org/about/lib-cal/skeleton-and-zom
 bie-hand-lights
END:VEVENT
BEGIN:VTIMEZONE
TZID:US/Eastern
X-LIC-LOCATION:US/Eastern
BEGIN:DAYLIGHT
DTSTART:20210314T030000
TZNAME:EDT
TZOFFSETFROM:-0500
TZOFFSETTO:-0400
END:DAYLIGHT
END:VTIMEZONE
END:VCALENDAR
