BEGIN:VCALENDAR
VERSION:2.0
PRODID:-//Plone.org//NONSGML plone.app.event//EN
X-WR-TIMEZONE:US/Eastern
BEGIN:VEVENT
SUMMARY:Storytime!
DTSTART;TZID=US/Eastern:20210831T103000
DTEND;TZID=US/Eastern:20210831T110000
DTSTAMP:20260423T000009Z
UID:573e76944b8c4d699428268f67814670@saas_stack_varnish:6080
CONTACT:616-681-9678\, https://www.facebook.com/events/241284540828555/?ac
 ontext=%7B%22action_history%22%3A[%7B%22surface%22%3A%22page%22%2C%22mecha
 nism%22%3A%22page_admin_bar%22%2C%22extra_data%22%3A%22%7B%5C%22page_id%5C
 %22%3A107290519316419%7D%22%7D%2C%7B%22surface%22%3A%22events_admin_tool%2
 2%2C%22mechanism%22%3A%22recommended_actions%22%2C%22extra_data%22%3A%22[]
 %22%7D]%2C%22has_source%22%3Atrue%7D
CREATED:20210714T184224Z
DESCRIPTION:Join Ms. Karen on Tuesdays for a fun Storytime with books\, ac
 tivities\, crafts\, and more! This is geared toward preschool-aged childre
 n. However\, we do not set an age limit for this program
LAST-MODIFIED:20210714T184229Z
LOCATION:Dorr Township Library
URL:https://www.dorrlibrary.michlibrary.org/about/lib-cal/storytime-2/2021
 -08-31
END:VEVENT
BEGIN:VTIMEZONE
TZID:US/Eastern
X-LIC-LOCATION:US/Eastern
BEGIN:DAYLIGHT
DTSTART:20210314T030000
TZNAME:EDT
TZOFFSETFROM:-0500
TZOFFSETTO:-0400
END:DAYLIGHT
END:VTIMEZONE
END:VCALENDAR
