BEGIN:VCALENDAR
VERSION:2.0
PRODID:-//Plone.org//NONSGML plone.app.event//EN
X-WR-TIMEZONE:US/Eastern
BEGIN:VEVENT
SUMMARY:Tea Cup Bird Feeders
DTSTART;TZID=US/Eastern:20230706T180000
DTEND;TZID=US/Eastern:20230706T200000
DTSTAMP:20260425T130555Z
UID:ef455cc348374c73927f5285fda4e93a@saas_stack_varnish:6080
CONTACT:616-681-9678
CREATED:20230607T181444Z
DESCRIPTION:Feed our feathered friends!
LAST-MODIFIED:20230607T181449Z
LOCATION:Dorr Township Library
URL:https://www.dorrlibrary.michlibrary.org/about/lib-cal/tea-cup-bird-fee
 ders
END:VEVENT
BEGIN:VTIMEZONE
TZID:US/Eastern
X-LIC-LOCATION:US/Eastern
BEGIN:DAYLIGHT
DTSTART:20230312T030000
TZNAME:EDT
TZOFFSETFROM:-0500
TZOFFSETTO:-0400
END:DAYLIGHT
END:VTIMEZONE
END:VCALENDAR
