BEGIN:VCALENDAR
VERSION:2.0
PRODID:-//Plone.org//NONSGML plone.app.event//EN
X-WR-TIMEZONE:US/Eastern
BEGIN:VEVENT
SUMMARY:Ancestry.com tutorial
DTSTART;TZID=US/Eastern:20160815T183000
DTEND;TZID=US/Eastern:20160815T193000
DTSTAMP:20260419T131609Z
UID:e4479e15cd494ba08dfdd7d9b25b3135@saas_stack_varnish:6080
CREATED:20160731T012406Z
LAST-MODIFIED:20160731T012410Z
URL:https://www.dorrlibrary.michlibrary.org/news-events/ancestry-com-tutor
 ial
END:VEVENT
BEGIN:VTIMEZONE
TZID:US/Eastern
X-LIC-LOCATION:US/Eastern
BEGIN:DAYLIGHT
DTSTART:20160313T030000
TZNAME:EDT
TZOFFSETFROM:-0500
TZOFFSETTO:-0400
END:DAYLIGHT
END:VTIMEZONE
END:VCALENDAR
