BEGIN:VCALENDAR
VERSION:2.0
PRODID:-//Plone.org//NONSGML plone.app.event//EN
X-WR-TIMEZONE:US/Eastern
BEGIN:VEVENT
SUMMARY:Book Club
DTSTART;TZID=US/Eastern:20151005T183000
DTEND;TZID=US/Eastern:20151005T200000
DTSTAMP:20260420T175551Z
UID:9eae2c7e44b846f39902626f3975d321@saas_stack_varnish:6080
CREATED:20150807T174304Z
LAST-MODIFIED:20150807T174309Z
URL:https://www.dorrlibrary.michlibrary.org/news-events/book-club
END:VEVENT
BEGIN:VTIMEZONE
TZID:US/Eastern
X-LIC-LOCATION:US/Eastern
BEGIN:DAYLIGHT
DTSTART:20150308T030000
TZNAME:EDT
TZOFFSETFROM:-0500
TZOFFSETTO:-0400
END:DAYLIGHT
END:VTIMEZONE
END:VCALENDAR
