BEGIN:VCALENDAR
VERSION:2.0
PRODID:-//Plone.org//NONSGML plone.app.event//EN
X-WR-TIMEZONE:US/Eastern
BEGIN:VEVENT
SUMMARY:Knit/Crochet Class
DTSTART;TZID=US/Eastern:20150928T183000
DTEND;TZID=US/Eastern:20150928T200000
DTSTAMP:20260423T145726Z
UID:d416154a69b64172a2b2673d69fa3015@saas_stack_varnish:6080
CREATED:20150807T173514Z
LAST-MODIFIED:20150807T173518Z
URL:https://www.dorrlibrary.michlibrary.org/news-events/knit-crochet-class
END:VEVENT
BEGIN:VTIMEZONE
TZID:US/Eastern
X-LIC-LOCATION:US/Eastern
BEGIN:DAYLIGHT
DTSTART:20150308T030000
TZNAME:EDT
TZOFFSETFROM:-0500
TZOFFSETTO:-0400
END:DAYLIGHT
END:VTIMEZONE
END:VCALENDAR
