BEGIN:VCALENDAR
VERSION:2.0
PRODID:-//Plone.org//NONSGML plone.app.event//EN
X-WR-TIMEZONE:US/Eastern
BEGIN:VEVENT
SUMMARY:Kids Zooming
DTSTART;TZID=US/Eastern:20200323T183000
DTEND;TZID=US/Eastern:20200323T190000
DTSTAMP:20260424T150957Z
UID:10edc693ca544088bcdc4f05f02a62a4@saas_stack_varnish:6080
CREATED:20200227T221947Z
LAST-MODIFIED:20200227T221955Z
URL:https://www.dorrlibrary.michlibrary.org/news-events/lib-cal/kids-zoomi
 ng/2020-03-23
END:VEVENT
BEGIN:VTIMEZONE
TZID:US/Eastern
X-LIC-LOCATION:US/Eastern
BEGIN:DAYLIGHT
DTSTART:20200308T030000
TZNAME:EDT
TZOFFSETFROM:-0500
TZOFFSETTO:-0400
END:DAYLIGHT
END:VTIMEZONE
END:VCALENDAR
