BEGIN:VCALENDAR
VERSION:2.0
PRODID:-//Plone.org//NONSGML plone.app.event//EN
X-WR-TIMEZONE:US/Eastern
BEGIN:VEVENT
SUMMARY:Kids Zooming
DTSTART;TZID=US/Eastern:20200302T183000
DTEND;TZID=US/Eastern:20200302T190000
DTSTAMP:20260424T162828Z
UID:10edc693ca544088bcdc4f05f02a62a4@saas_stack_varnish:6080
RRULE:FREQ=WEEKLY;UNTIL=20200427T000000;BYDAY=MO
EXDATE;TZID=US/Eastern:20200406T000000
CREATED:20200227T221947Z
LAST-MODIFIED:20200227T221955Z
URL:https://www.dorrlibrary.michlibrary.org/news-events/lib-cal/kids-zoomi
 ng
END:VEVENT
BEGIN:VTIMEZONE
TZID:US/Eastern
X-LIC-LOCATION:US/Eastern
BEGIN:STANDARD
DTSTART:20191103T010000
TZNAME:EST
TZOFFSETFROM:-0400
TZOFFSETTO:-0500
END:STANDARD
END:VTIMEZONE
END:VCALENDAR
