BEGIN:VCALENDAR
VERSION:2.0
PRODID:-//Plone.org//NONSGML plone.app.event//EN
X-WR-TIMEZONE:US/Eastern
BEGIN:VEVENT
SUMMARY:Library Closed
DTSTART;VALUE=DATE:20151224
DTEND;VALUE=DATE:20151227
DTSTAMP:20260424T123537Z
UID:2548f9fcb4774ca4ab9848ba66814463@saas_stack_varnish:6080
CREATED:20151028T155642Z
DESCRIPTION:Merry Christmas
LAST-MODIFIED:20151028T155700Z
URL:https://www.dorrlibrary.michlibrary.org/news-events/library-closed-3
END:VEVENT
END:VCALENDAR
