BEGIN:VCALENDAR
VERSION:2.0
PRODID:-//Plone.org//NONSGML plone.app.event//EN
X-WR-TIMEZONE:US/Eastern
BEGIN:VEVENT
SUMMARY:Marble Painting
DTSTART;TZID=US/Eastern:20180625T180000
DTEND;TZID=US/Eastern:20180625T190000
DTSTAMP:20260424T043831Z
UID:802bd559852b4a70a2a56d206f7006e5@saas_stack_varnish:6080
CREATED:20180608T175618Z
LAST-MODIFIED:20180608T175624Z
URL:https://www.dorrlibrary.michlibrary.org/news-events/marble-painting
END:VEVENT
BEGIN:VTIMEZONE
TZID:US/Eastern
X-LIC-LOCATION:US/Eastern
BEGIN:DAYLIGHT
DTSTART:20180311T030000
TZNAME:EDT
TZOFFSETFROM:-0500
TZOFFSETTO:-0400
END:DAYLIGHT
END:VTIMEZONE
END:VCALENDAR
