BEGIN:VCALENDAR
VERSION:2.0
PRODID:-//Plone.org//NONSGML plone.app.event//EN
X-WR-TIMEZONE:US/Eastern
BEGIN:VEVENT
SUMMARY:Mason Jar Prism Lights
DTSTART;TZID=US/Eastern:20180409T180000
DTEND;TZID=US/Eastern:20180409T190000
DTSTAMP:20260423T174231Z
UID:340ffc6fa723409f8fca3b2eb5b16be7@saas_stack_varnish:6080
CREATED:20180402T005054Z
LAST-MODIFIED:20180402T005119Z
URL:https://www.dorrlibrary.michlibrary.org/news-events/mason-jar-prism-li
 ghts
END:VEVENT
BEGIN:VTIMEZONE
TZID:US/Eastern
X-LIC-LOCATION:US/Eastern
BEGIN:DAYLIGHT
DTSTART:20180311T030000
TZNAME:EDT
TZOFFSETFROM:-0500
TZOFFSETTO:-0400
END:DAYLIGHT
END:VTIMEZONE
END:VCALENDAR
