BEGIN:VCALENDAR
VERSION:2.0
PRODID:-//Plone.org//NONSGML plone.app.event//EN
X-WR-TIMEZONE:US/Eastern
BEGIN:VEVENT
SUMMARY:Movie - Coco
DTSTART;VALUE=DATE:20180402
DTEND;VALUE=DATE:20180403
DTSTAMP:20260422T173515Z
UID:1e96e312ee65499db99fba82550b6ced@saas_stack_varnish:6080
CREATED:20180402T004319Z
LAST-MODIFIED:20180402T004335Z
URL:https://www.dorrlibrary.michlibrary.org/news-events/movie-coco
END:VEVENT
END:VCALENDAR
