BEGIN:VCALENDAR
VERSION:2.0
PRODID:-//Plone.org//NONSGML plone.app.event//EN
X-WR-TIMEZONE:US/Eastern
BEGIN:VEVENT
SUMMARY:Pastel Pop Art
DTSTART;TZID=US/Eastern:20180205T180000
DTEND;TZID=US/Eastern:20180205T190000
DTSTAMP:20260423T165245Z
UID:06509f4d18eb4898b93ee37d8d3ab6ce@saas_stack_varnish:6080
CREATED:20180110T215733Z
LAST-MODIFIED:20180110T215741Z
URL:https://www.dorrlibrary.michlibrary.org/news-events/pastel-pop-art
END:VEVENT
BEGIN:VTIMEZONE
TZID:US/Eastern
X-LIC-LOCATION:US/Eastern
BEGIN:STANDARD
DTSTART:20171105T010000
TZNAME:EST
TZOFFSETFROM:-0400
TZOFFSETTO:-0500
END:STANDARD
END:VTIMEZONE
END:VCALENDAR
