BEGIN:VCALENDAR
VERSION:2.0
PRODID:-//Plone.org//NONSGML plone.app.event//EN
X-WR-TIMEZONE:US/Eastern
BEGIN:VEVENT
SUMMARY:Soap Making
DTSTART;TZID=US/Eastern:20171109T180000
DTEND;TZID=US/Eastern:20171109T200000
DTSTAMP:20260421T064332Z
UID:7196058ebd974688b500dacd403bc67f@saas_stack_varnish:6080
CREATED:20171103T145217Z
LAST-MODIFIED:20171103T145234Z
URL:https://www.dorrlibrary.michlibrary.org/news-events/soap-making-2
END:VEVENT
BEGIN:VTIMEZONE
TZID:US/Eastern
X-LIC-LOCATION:US/Eastern
BEGIN:STANDARD
DTSTART:20171105T010000
TZNAME:EST
TZOFFSETFROM:-0400
TZOFFSETTO:-0500
END:STANDARD
END:VTIMEZONE
END:VCALENDAR
