BEGIN:VCALENDAR
VERSION:2.0
PRODID:-//Plone.org//NONSGML plone.app.event//EN
X-WR-TIMEZONE:US/Eastern
BEGIN:VEVENT
SUMMARY:SPECIAL Super Hero Story Time
DTSTART;TZID=US/Eastern:20150623T110000
DTEND;TZID=US/Eastern:20150623T114500
DTSTAMP:20260426T004142Z
UID:c05f2ccd16efc54323fd6e0e16f182a4@saas_stack_varnish:6080
CREATED:20150527T205916Z
LAST-MODIFIED:20150527T205931Z
URL:https://www.dorrlibrary.michlibrary.org/news-events/special-super-hero
 -story-time.ics
END:VEVENT
BEGIN:VTIMEZONE
TZID:US/Eastern
X-LIC-LOCATION:US/Eastern
BEGIN:DAYLIGHT
DTSTART:20150308T030000
TZNAME:EDT
TZOFFSETFROM:-0500
TZOFFSETTO:-0400
END:DAYLIGHT
END:VTIMEZONE
END:VCALENDAR
